BEGIN:VCALENDAR
VERSION:2.0
PRODID:-//Tumble Zone - ECPv6.15.20//NONSGML v1.0//EN
CALSCALE:GREGORIAN
METHOD:PUBLISH
X-ORIGINAL-URL:https://thetumblezone.com
X-WR-CALDESC:Events for Tumble Zone
REFRESH-INTERVAL;VALUE=DURATION:PT1H
X-Robots-Tag:noindex
X-PUBLISHED-TTL:PT1H
BEGIN:VTIMEZONE
TZID:UTC
BEGIN:STANDARD
TZOFFSETFROM:+0000
TZOFFSETTO:+0000
TZNAME:UTC
DTSTART:20170101T000000
END:STANDARD
END:VTIMEZONE
BEGIN:VEVENT
DTSTART;TZID=UTC:20191213T180000
DTEND;TZID=UTC:20191213T203000
DTSTAMP:20260423T160822
CREATED:20191123T191744Z
LAST-MODIFIED:20191123T193451Z
UID:9338-1576260000-1576269000@thetumblezone.com
SUMMARY:Gymnastics Parent Freedom Night- $20
DESCRIPTION:Parents drop the kids off while kids enjoy gymnastics\, fun games\, trampoline\, pizza and juice!
URL:https://thetumblezone.com/event/gymnastics-parent-freedom-night-20/
LOCATION:NJ
END:VEVENT
BEGIN:VEVENT
DTSTART;TZID=UTC:20180813T090000
DTEND;TZID=UTC:20180830T140000
DTSTAMP:20260423T160822
CREATED:20180311T132801Z
LAST-MODIFIED:20180311T132801Z
UID:8956-1534150800-1535637600@thetumblezone.com
SUMMARY:Tumble Zone Summer Camp in Little Falls\, NJ
DESCRIPTION:Gymnastics\, Free Play\, Rock Climbing\, structured games\, & airtrack fun! \nNo gymnastics experience required \nages 3 +up (must be potty trained) \nBefore & aftercare available
URL:https://thetumblezone.com/event/tumble-zone-summer-camp-in-little-falls-nj/
END:VEVENT
BEGIN:VEVENT
DTSTART;VALUE=DATE:20180625
DTEND;VALUE=DATE:20180811
DTSTAMP:20260423T160822
CREATED:20150430T134857Z
LAST-MODIFIED:20180311T133013Z
UID:956-1529884800-1533945599@thetumblezone.com
SUMMARY:TZ Summer Camp in Verona\, NJ
DESCRIPTION:Activities include: \nGymnastics\, fun athletic games\, and water activities\, indoor/outdoor camp with playground and basketball court \n*In Addition kids will enjoy different themed activities each week!! \n$150 per week 9am-2pm \nBefore & Aftercare available
URL:https://thetumblezone.com/event/veronanj/
LOCATION:Our Lady of the Lake School Verona\, NJ\, 26 Lakeside Avenue\, Verona\, NJ\, 07044\, United States
CATEGORIES:Indoor/Outdoor
ATTACH;FMTTYPE=image/jpeg:https://thetumblezone.com/wp-content/uploads/2018/02/35.jpg
END:VEVENT
BEGIN:VEVENT
DTSTART;TZID=UTC:20180325T113000
DTEND;TZID=UTC:20180325T123000
DTSTAMP:20260423T160822
CREATED:20180321T202024Z
LAST-MODIFIED:20180321T204104Z
UID:9076-1521977400-1521981000@thetumblezone.com
SUMMARY:Open Gym
DESCRIPTION:Drop off your child for an hour of gymnastics\, games\, airtrack\, & more!  (ages 3 & up) \n$10 online registration \n$15 at the door
URL:https://thetumblezone.com/event/open-gym/
END:VEVENT
BEGIN:VEVENT
DTSTART;TZID=UTC:20180324T180000
DTEND;TZID=UTC:20180324T210000
DTSTAMP:20260423T160822
CREATED:20180311T133402Z
LAST-MODIFIED:20180321T204210Z
UID:8958-1521914400-1521925200@thetumblezone.com
SUMMARY:Parent Freedom Night
DESCRIPTION:Parents drop off your children and enjoy a night out\, go shopping\, or stay in and relax! \nKids will enjoy a night of gymnastics\, fun games\, rock climbing\, airtrack\, & more! \nPrice includes: Pizza & juice \n$25/per child
URL:https://thetumblezone.com/event/parent-freedom-night/
END:VEVENT
END:VCALENDAR